1.00000000000000
0.00000000000000
0.00000000000000
-1.00000000000000
640599.43380600004000
5151288.06625500040000
