1.00000000000000
0.00000000000000
0.00000000000000
-1.00000000000000
647128.27216299996000
5145890.11098499970000
