1.00000000000000
0.00000000000000
0.00000000000000
-1.00000000000000
704355.34194499999000
5158733.41598500030000
