1.00000000000000
0.00000000000000
0.00000000000000
-1.00000000000000
704730.24529300001000
5147622.61372799990000
