1.00000000000000
0.00000000000000
0.00000000000000
-1.00000000000000
621638.68302200001000
5139740.42829999980000
