1.00000000000000
0.00000000000000
0.00000000000000
-1.00000000000000
641243.19746099995000
5123508.56303100010000
