1.00000000000000
0.00000000000000
0.00000000000000
-1.00000000000000
653669.11036799999000
5140500.15547300040000
