1.00000000000000
0.00000000000000
0.00000000000000
-1.00000000000000
660513.85325299995000
5124005.39816999990000
