1.00000000000000
0.00000000000000
0.00000000000000
-1.00000000000000
692281.37686900003000
5136078.92302600010000
