1.00000000000000
0.00000000000000
0.00000000000000
-1.00000000000000
705479.05200000003000
5125400.00923999960000
