1.00000000000000
0.00000000000000
0.00000000000000
-1.00000000000000
615757.56352400000000
5111829.98022300000000
