1.00000000000000
0.00000000000000
0.00000000000000
-1.00000000000000
615862.51669299998000
5106275.07975300030000
