1.00000000000000
0.00000000000000
0.00000000000000
-1.00000000000000
622304.40134600003000
5106406.02527699990000
