1.00000000000000
0.00000000000000
0.00000000000000
-1.00000000000000
615967.46985400002000
5100719.17930000000000
