1.00000000000000
0.00000000000000
0.00000000000000
-1.00000000000000
641371.15021400002000
5117953.66237400010000
