1.00000000000000
0.00000000000000
0.00000000000000
-1.00000000000000
628862.23902500002000
5100989.07011600020000
