1.00000000000000
0.00000000000000
0.00000000000000
-1.00000000000000
679948.46163399995000
5119007.33127699980000
