1.00000000000000
0.00000000000000
0.00000000000000
-1.00000000000000
692807.23254800006000
5119412.21994499960000
