1.00000000000000
0.00000000000000
0.00000000000000
-1.00000000000000
699778.97346999997000
5102958.46087300030000
