1.00000000000000
0.00000000000000
0.00000000000000
-1.00000000000000
609619.53861000005000
5095038.33330400010000
