1.00000000000000
0.00000000000000
0.00000000000000
-1.00000000000000
616072.42301499995000
5095163.27884799990000
