1.00000000000000
0.00000000000000
0.00000000000000
-1.00000000000000
622746.21360799996000
5084184.42325400000000
