1.00000000000000
0.00000000000000
0.00000000000000
-1.00000000000000
616385.28255100001000
5078497.57747100010000
