1.00000000000000
0.00000000000000
0.00000000000000
-1.00000000000000
635674.98227799998000
5084468.31354099980000
