1.00000000000000
0.00000000000000
0.00000000000000
-1.00000000000000
629326.05088999995000
5078767.46791500040000
