1.00000000000000
0.00000000000000
0.00000000000000
-1.00000000000000
693506.04188999999000
5097403.61199400020000
