1.00000000000000
0.00000000000000
0.00000000000000
-1.00000000000000
616490.23571200005000
5072941.67701900010000
