1.00000000000000
0.00000000000000
0.00000000000000
-1.00000000000000
649003.60913000000000
5068113.50126099960000
