2.00000000000000
0.00000000000000
0.00000000000000
-2.00000000000000
663991.00000000000000
5154009.00000000000000
