1.00000000000000
0.00000000000000
0.00000000000000
-1.00000000000000
655990.50000000000000
5150009.50000000000000
