2.00000000000000
0.00000000000000
0.00000000000000
-2.00000000000000
641991.00000000000000
5144009.00000000000000
