2.00000000000000
0.00000000000000
0.00000000000000
-2.00000000000000
623991.00000000000000
5142009.00000000000000
