2.00000000000000
0.00000000000000
0.00000000000000
-2.00000000000000
665991.00000000000000
5136009.00000000000000
