1.00000000000000
0.00000000000000
0.00000000000000
-1.00000000000000
693990.00000000000000
5136009.00000000000000
