1.00000000000000
0.00000000000000
0.00000000000000
-1.00000000000000
699990.00000000000000
5130009.50000000000000
