2.00000000000000
0.00000000000000
0.00000000000000
-2.00000000000000
629991.00000000000000
5126009.00000000000000
