1.00000000000000
0.00000000000000
0.00000000000000
-1.00000000000000
649990.50000000000000
5126009.50000000000000
