2.00000000000000
0.00000000000000
0.00000000000000
-2.00000000000000
627991.00000000000000
5124009.00000000000000
