1.00000000000000
0.00000000000000
0.00000000000000
-1.00000000000000
725990.50000000000000
5122009.50000000000000
