1.00000000000000
0.00000000000000
0.00000000000000
-1.00000000000000
677990.00000000000000
5120009.00000000000000
