2.00000000000000
0.00000000000000
0.00000000000000
-2.00000000000000
643991.00000000000000
5118009.00000000000000
