1.00000000000000
0.00000000000000
0.00000000000000
-1.00000000000000
665990.00000000000000
5118009.00000000000000
