1.00000000000000
0.00000000000000
0.00000000000000
-1.00000000000000
643990.50000000000000
5106009.50000000000000
