1.00000000000000
0.00000000000000
0.00000000000000
-1.00000000000000
671990.50000000000000
5104009.50000000000000
