1.00000000000000
0.00000000000000
0.00000000000000
-1.00000000000000
681990.00000000000000
5096009.00000000000000
