1.00000000000000
0.00000000000000
0.00000000000000
-1.00000000000000
645990.50000000000000
5088009.50000000000000
