1.00000000000000
0.00000000000000
0.00000000000000
-1.00000000000000
657990.50000000000000
5082009.00000000000000
