1.00000000000000
0.00000000000000
0.00000000000000
-1.00000000000000
647990.50000000000000
5072009.50000000000000
