2.00000000000000
0.00000000000000
0.00000000000000
-2.00000000000000
629991.00000000000000
5148009.00000000000000
