1.00000000000000
0.00000000000000
0.00000000000000
-1.00000000000000
715990.50000000000000
5136009.50000000000000
